BEGIN:VCALENDAR
VERSION:2.0
PRODID:-//gcpc.org//NONSGML kigkonsult.se iCalcreator 2.30.10//
CALSCALE:GREGORIAN
METHOD:PUBLISH
UID:541201ed-fdaa-4bde-9a53-63c4d8dc71fb
X-WR-CALDESC:
X-WR-RELCALID:bb0367ad19056c5fb67f7dff23ed9c62
X-WR-TIMEZONE:America/Chicago
BEGIN:VTIMEZONE
TZID:America/Chicago
BEGIN:STANDARD
TZNAME:CST
DTSTART:20251102T020000
TZOFFSETFROM:-0500
TZOFFSETTO:-0600
RDATE:20261101T020000
END:STANDARD
BEGIN:DAYLIGHT
TZNAME:CDT
DTSTART:20260308T020000
TZOFFSETFROM:-0600
TZOFFSETTO:-0500
RDATE:20270314T020000
END:DAYLIGHT
END:VTIMEZONE
BEGIN:VEVENT
UID:2de1a7df-7348-4161-a46b-2d771cb2754d
DTSTAMP:20260422T044719Z
DESCRIPTION:
DTSTART;TZID=America/Chicago:20260423T130000
DTEND;TZID=America/Chicago:20260423T140000
LOCATION:
SUMMARY:EncoreKC! Woodwinds
END:VEVENT
END:VCALENDAR
