BEGIN:VCALENDAR
VERSION:2.0
PRODID:-//gcpc.org//NONSGML kigkonsult.se iCalcreator 2.30.10//
CALSCALE:GREGORIAN
METHOD:PUBLISH
UID:3cf3c569-d442-42b5-897c-1ca825114ea0
X-WR-CALDESC:Meets in choir room.
X-WR-RELCALID:3da30e2913fc512adf0b57b4feaa9e49
X-WR-TIMEZONE:America/Chicago
BEGIN:VTIMEZONE
TZID:America/Chicago
BEGIN:STANDARD
TZNAME:CST
DTSTART:20251102T020000
TZOFFSETFROM:-0500
TZOFFSETTO:-0600
RDATE:20261101T020000
END:STANDARD
BEGIN:DAYLIGHT
TZNAME:CDT
DTSTART:20260308T020000
TZOFFSETFROM:-0600
TZOFFSETTO:-0500
RDATE:20270314T020000
END:DAYLIGHT
END:VTIMEZONE
BEGIN:VEVENT
UID:c657c991-ea1e-4e8b-8bb2-d00e6cdcb4c8
DTSTAMP:20260422T043818Z
DESCRIPTION:Meets in choir room.
DTSTART;TZID=America/Chicago:20260423T180000
DTEND;TZID=America/Chicago:20260423T190000
LOCATION:
SUMMARY:EncoreKC! Brass
END:VEVENT
END:VCALENDAR
