BEGIN:VCALENDAR
VERSION:2.0
PRODID:-//gcpc.org//NONSGML kigkonsult.se iCalcreator 2.30.10//
CALSCALE:GREGORIAN
METHOD:PUBLISH
UID:730f7de1-0ddf-4902-9516-bcf0a3b49b9a
X-WR-CALDESC:
X-WR-RELCALID:e581b828ec87c9ba79653d1de156a6a0
X-WR-TIMEZONE:America/Chicago
BEGIN:VTIMEZONE
TZID:America/Chicago
BEGIN:STANDARD
TZNAME:CST
DTSTART:20251102T020000
TZOFFSETFROM:-0500
TZOFFSETTO:-0600
RDATE:20261101T020000
END:STANDARD
BEGIN:DAYLIGHT
TZNAME:CDT
DTSTART:20260308T020000
TZOFFSETFROM:-0600
TZOFFSETTO:-0500
RDATE:20270314T020000
END:DAYLIGHT
END:VTIMEZONE
BEGIN:VEVENT
UID:806e2e09-f7f8-4e6f-8e0e-c0008eb2469a
DTSTAMP:20260422T043459Z
DESCRIPTION:
DTSTART;TZID=America/Chicago:20260426T104500
DTEND;TZID=America/Chicago:20260426T114500
LOCATION:
SUMMARY:Christian Education
END:VEVENT
END:VCALENDAR
