BEGIN:VCALENDAR
VERSION:2.0
PRODID:-//gcpc.org//NONSGML kigkonsult.se iCalcreator 2.30.10//
CALSCALE:GREGORIAN
METHOD:PUBLISH
UID:2b362fdb-eff1-4912-b037-b61090243278
X-WR-CALDESC:This group meets weekly to develop woodworking skills and for 
 fellowship.
X-WR-RELCALID:f1698b6b2f88f33160950b73465932ff
X-WR-TIMEZONE:America/Chicago
BEGIN:VTIMEZONE
TZID:America/Chicago
BEGIN:STANDARD
TZNAME:CST
DTSTART:20251102T020000
TZOFFSETFROM:-0500
TZOFFSETTO:-0600
RDATE:20261101T020000
END:STANDARD
BEGIN:DAYLIGHT
TZNAME:CDT
DTSTART:20260308T020000
TZOFFSETFROM:-0600
TZOFFSETTO:-0500
RDATE:20270314T020000
END:DAYLIGHT
END:VTIMEZONE
BEGIN:VEVENT
UID:26ae69b5-61bd-489c-9f3b-d1eebd34437c
DTSTAMP:20260422T043706Z
DESCRIPTION:This group meets weekly to develop woodworking skills and for f
 ellowship.
DTSTART;TZID=America/Chicago:20260430T090000
DTEND;TZID=America/Chicago:20260430T110000
LOCATION:Heartland Hall
SUMMARY:Woodworkers
END:VEVENT
END:VCALENDAR
