BEGIN:VCALENDAR
VERSION:2.0
PRODID:-//gcpc.org//NONSGML kigkonsult.se iCalcreator 2.30.10//
CALSCALE:GREGORIAN
METHOD:PUBLISH
UID:adcde57b-d746-486f-93b0-1bacc1c680dd
X-WR-CALDESC:
X-WR-RELCALID:e8a1e39e34bdaf2a35a9e8dcc85a71fd
X-WR-TIMEZONE:America/Chicago
BEGIN:VTIMEZONE
TZID:America/Chicago
BEGIN:STANDARD
TZNAME:CST
DTSTART:20251102T020000
TZOFFSETFROM:-0500
TZOFFSETTO:-0600
RDATE:20261101T020000
END:STANDARD
BEGIN:DAYLIGHT
TZNAME:CDT
DTSTART:20260308T020000
TZOFFSETFROM:-0600
TZOFFSETTO:-0500
RDATE:20270314T020000
END:DAYLIGHT
END:VTIMEZONE
BEGIN:VEVENT
UID:f5429ae2-1bcc-4a94-9295-ee0e988b0bd4
DTSTAMP:20260422T044302Z
DESCRIPTION:
DTSTART;TZID=America/Chicago:20260430T130000
DTEND;TZID=America/Chicago:20260430T140000
LOCATION:
SUMMARY:EncoreKC! Woodwinds
END:VEVENT
END:VCALENDAR
