BEGIN:VCALENDAR
VERSION:2.0
PRODID:-//gcpc.org//NONSGML kigkonsult.se iCalcreator 2.30.10//
CALSCALE:GREGORIAN
METHOD:PUBLISH
UID:b467c648-da2e-4bf4-8ca2-b54849a48732
X-WR-CALDESC:Grace Notes Newsletter article deadline - Submit articles to t
 he church office by Noon.\nThe newsletter is published on the 1st day of t
 he month.\nTo subscribe\, contact the church office.
X-WR-RELCALID:2416e5085df969bd9dd8eaff9aa1092f
X-WR-TIMEZONE:America/Chicago
BEGIN:VTIMEZONE
TZID:America/Chicago
BEGIN:STANDARD
TZNAME:CST
DTSTART:20251102T020000
TZOFFSETFROM:-0500
TZOFFSETTO:-0600
RDATE:20261101T020000
RDATE:20271107T020000
END:STANDARD
BEGIN:DAYLIGHT
TZNAME:CDT
DTSTART:20260308T020000
TZOFFSETFROM:-0600
TZOFFSETTO:-0500
RDATE:20270314T020000
END:DAYLIGHT
END:VTIMEZONE
BEGIN:VEVENT
UID:be69d3fb-85c5-43ed-ab2b-1b18f3b8dbc7
DTSTAMP:20260422T123312Z
DESCRIPTION:Grace Notes Newsletter article deadline - Submit articles to th
 e church office by Noon.\nThe newsletter is published on the 1st day of th
 e month.\nTo subscribe\, contact the church office.
DTSTART;TZID=America/Chicago:20260519T000000
DTEND;TZID=America/Chicago:20260519T235900
LOCATION:
SUMMARY:NEWSLETTER DEADLINE
END:VEVENT
END:VCALENDAR
