BEGIN:VCALENDAR
VERSION:2.0
PRODID:-//gcpc.org//NONSGML kigkonsult.se iCalcreator 2.30.10//
CALSCALE:GREGORIAN
METHOD:PUBLISH
UID:9524df55-9c2b-4735-a268-bf6ba7a907b0
X-WR-CALDESC:
X-WR-RELCALID:1747c229eb97d3df3dc95b67bada2c49
X-WR-TIMEZONE:America/Chicago
BEGIN:VTIMEZONE
TZID:America/Chicago
BEGIN:STANDARD
TZNAME:CST
DTSTART:20251102T020000
TZOFFSETFROM:-0500
TZOFFSETTO:-0600
RDATE:20261101T020000
RDATE:20271107T020000
END:STANDARD
BEGIN:DAYLIGHT
TZNAME:CDT
DTSTART:20260308T020000
TZOFFSETFROM:-0600
TZOFFSETTO:-0500
RDATE:20270314T020000
END:DAYLIGHT
END:VTIMEZONE
BEGIN:VEVENT
UID:5bc87f2e-fa1a-4307-9862-9a7a2e043103
DTSTAMP:20260422T012818Z
DESCRIPTION:
DTSTART;TZID=America/Chicago:20260523T170000
DTEND;TZID=America/Chicago:20260523T210000
LOCATION:
SUMMARY:ACF Graduation Dinner
END:VEVENT
END:VCALENDAR
