BEGIN:VCALENDAR
VERSION:2.0
PRODID:-//gcpc.org//NONSGML kigkonsult.se iCalcreator 2.30.10//
CALSCALE:GREGORIAN
METHOD:PUBLISH
UID:110a5443-0cf3-461c-9ed0-ee4f953cbac8
X-WR-CALDESC:This group meets weekly to develop woodworking skills and for 
 fellowship.
X-WR-RELCALID:07305f5e981b3f88885604297c2ed119
X-WR-TIMEZONE:America/Chicago
BEGIN:VTIMEZONE
TZID:America/Chicago
BEGIN:STANDARD
TZNAME:CST
DTSTART:20251102T020000
TZOFFSETFROM:-0500
TZOFFSETTO:-0600
RDATE:20261101T020000
END:STANDARD
BEGIN:DAYLIGHT
TZNAME:CDT
DTSTART:20260308T020000
TZOFFSETFROM:-0600
TZOFFSETTO:-0500
RDATE:20270314T020000
END:DAYLIGHT
END:VTIMEZONE
BEGIN:VEVENT
UID:b9ee9c66-a2a7-4880-a0a5-de2be41b011b
DTSTAMP:20260422T025721Z
DESCRIPTION:This group meets weekly to develop woodworking skills and for f
 ellowship.
DTSTART;TZID=America/Chicago:20260402T090000
DTEND;TZID=America/Chicago:20260402T110000
LOCATION:Heartland Hall
SUMMARY:Woodworkers
END:VEVENT
END:VCALENDAR
