BEGIN:VCALENDAR
VERSION:2.0
PRODID:-//gcpc.org//NONSGML kigkonsult.se iCalcreator 2.30.10//
CALSCALE:GREGORIAN
METHOD:PUBLISH
UID:443b8838-5beb-470f-9b72-0feb7bc2feb5
X-WR-CALDESC:
X-WR-RELCALID:2a3a6b667fdef705fee2898b8a1d0f13
X-WR-TIMEZONE:America/Chicago
BEGIN:VTIMEZONE
TZID:America/Chicago
BEGIN:STANDARD
TZNAME:CST
DTSTART:20251102T020000
TZOFFSETFROM:-0500
TZOFFSETTO:-0600
RDATE:20261101T020000
END:STANDARD
BEGIN:DAYLIGHT
TZNAME:CDT
DTSTART:20260308T020000
TZOFFSETFROM:-0600
TZOFFSETTO:-0500
RDATE:20270314T020000
END:DAYLIGHT
END:VTIMEZONE
BEGIN:VEVENT
UID:eb3218e0-0dfd-4ab0-b8f8-eda1524dc461
DTSTAMP:20260422T031934Z
DESCRIPTION:
DTSTART;TZID=America/Chicago:20260402T130000
DTEND;TZID=America/Chicago:20260402T140000
LOCATION:
SUMMARY:EncoreKC! Woodwinds
END:VEVENT
END:VCALENDAR
