BEGIN:VCALENDAR
VERSION:2.0
PRODID:-//gcpc.org//NONSGML kigkonsult.se iCalcreator 2.30.10//
CALSCALE:GREGORIAN
METHOD:PUBLISH
UID:bdafab21-e304-479c-b69c-61fd9fef67ed
X-WR-CALDESC:Meets in choir room.
X-WR-RELCALID:c4c69e80e6a86836b4f20d00f7e6138d
X-WR-TIMEZONE:America/Chicago
BEGIN:VTIMEZONE
TZID:America/Chicago
BEGIN:STANDARD
TZNAME:CST
DTSTART:20251102T020000
TZOFFSETFROM:-0500
TZOFFSETTO:-0600
RDATE:20261101T020000
END:STANDARD
BEGIN:DAYLIGHT
TZNAME:CDT
DTSTART:20260308T020000
TZOFFSETFROM:-0600
TZOFFSETTO:-0500
RDATE:20270314T020000
END:DAYLIGHT
END:VTIMEZONE
BEGIN:VEVENT
UID:5dba4331-9dc1-44b9-b967-134332991ebd
DTSTAMP:20260422T031113Z
DESCRIPTION:Meets in choir room.
DTSTART;TZID=America/Chicago:20260402T180000
DTEND;TZID=America/Chicago:20260402T190000
LOCATION:
SUMMARY:EncoreKC! Brass
END:VEVENT
END:VCALENDAR
