BEGIN:VCALENDAR
VERSION:2.0
PRODID:-//gcpc.org//NONSGML kigkonsult.se iCalcreator 2.30.10//
CALSCALE:GREGORIAN
METHOD:PUBLISH
UID:eadfd771-9c64-46a6-bfa3-1fb57631be66
X-WR-CALDESC:🍞 Join us on Maundy Thursday\, April 2\, at 7:30pm. On this so
 lemn evening\, we commemorate the Last Supper\, where Jesus instituted the
  Lord’s Supper and demonstrated the depth of His love.
X-WR-RELCALID:9a5e028f8209271b1b09e25c93973d56
X-WR-TIMEZONE:America/Chicago
BEGIN:VTIMEZONE
TZID:America/Chicago
BEGIN:STANDARD
TZNAME:CST
DTSTART:20251102T020000
TZOFFSETFROM:-0500
TZOFFSETTO:-0600
RDATE:20261101T020000
END:STANDARD
BEGIN:DAYLIGHT
TZNAME:CDT
DTSTART:20260308T020000
TZOFFSETFROM:-0600
TZOFFSETTO:-0500
RDATE:20270314T020000
END:DAYLIGHT
END:VTIMEZONE
BEGIN:VEVENT
UID:5219c79b-0026-4139-becd-24e5b101bedb
DTSTAMP:20260422T030116Z
DESCRIPTION:🍞 Join us on Maundy Thursday\, April 2\, at 7:30pm. On this sol
 emn evening\, we commemorate the Last Supper\, where Jesus instituted the 
 Lord’s Supper and demonstrated the depth of His love.
DTSTART;TZID=America/Chicago:20260402T193000
DTEND;TZID=America/Chicago:20260402T203000
LOCATION:11100 College Blvd.\, Overland Park\, KS 66210 US
SUMMARY:Maundy Thursday Worship
END:VEVENT
END:VCALENDAR
