BEGIN:VCALENDAR
VERSION:2.0
PRODID:-//gcpc.org//NONSGML kigkonsult.se iCalcreator 2.30.10//
CALSCALE:GREGORIAN
METHOD:PUBLISH
UID:db4f8d03-3bd8-41c6-af12-ae28c1121aa5
X-WR-CALDESC:EASTER!  We rejoice in Christâ€™s resurrection with beautiful mu
 sic\, confetti and the Sacrament of Communion.  Join us Easter Sunday\, Ap
 ril 5\, at 9am or 11am\, in-person\, Facebook\, YouTube and gcpc.org.\, as
  we shout Alleluia! He is Risen! Details about the service can be found at
  www.gcpc.org/easter.\n\nðŸŒºŸŒ¹ðŸŒ¼ŸŒ·ðŸŒ¼On Easter morning\, we transform the barren cr
 oss\, a reminder of Jesus' death\, into a symbol of Jesus' resurrection an
 d His continuing presence among us today. All are welcome to place a flowe
 r on the cross and give thanks for Christâ€™s promise of new life.
X-WR-RELCALID:5d9894d9f41b619617063770882b80b0
X-WR-TIMEZONE:America/Chicago
BEGIN:VTIMEZONE
TZID:America/Chicago
BEGIN:STANDARD
TZNAME:CST
DTSTART:20251102T020000
TZOFFSETFROM:-0500
TZOFFSETTO:-0600
RDATE:20261101T020000
END:STANDARD
BEGIN:DAYLIGHT
TZNAME:CDT
DTSTART:20260308T020000
TZOFFSETFROM:-0600
TZOFFSETTO:-0500
RDATE:20270314T020000
END:DAYLIGHT
END:VTIMEZONE
BEGIN:VEVENT
UID:e8d3d0e7-b468-4f3d-9ef3-e0ca4869b616
DTSTAMP:20260422T025441Z
DESCRIPTION:EASTER!  We rejoice in Christâ€™s resurrection with beautiful mus
 ic\, confetti and the Sacrament of Communion.  Join us Easter Sunday\, Apr
 il 5\, at 9am or 11am\, in-person\, Facebook\, YouTube and gcpc.org.\, as 
 we shout Alleluia! He is Risen! Details about the service can be found at 
 www.gcpc.org/easter.\n\nðŸŒºŸŒ¹ðŸŒ¼ŸŒ·ðŸŒ¼On Easter morning\, we transform the barren cro
 ss\, a reminder of Jesus' death\, into a symbol of Jesus' resurrection and
  His continuing presence among us today. All are welcome to place a flower
  on the cross and give thanks for Christâ€™s promise of new life.
DTSTART;TZID=America/Chicago:20260405T050000
DTEND;TZID=America/Chicago:20260405T050001
LOCATION:11100 College Blvd.\, Overland Park\, KS 66210 US
SUMMARY:EASTER SUNDAY
END:VEVENT
END:VCALENDAR
