BEGIN:VCALENDAR
VERSION:2.0
PRODID:-//gcpc.org//NONSGML kigkonsult.se iCalcreator 2.30.10//
CALSCALE:GREGORIAN
METHOD:PUBLISH
UID:b535c334-b298-481a-8a18-b33a35e737ce
X-WR-CALDESC:
X-WR-RELCALID:3f50db8a701d48680721e81b8712ac97
X-WR-TIMEZONE:America/Chicago
BEGIN:VTIMEZONE
TZID:America/Chicago
BEGIN:STANDARD
TZNAME:CST
DTSTART:20251102T020000
TZOFFSETFROM:-0500
TZOFFSETTO:-0600
RDATE:20261101T020000
END:STANDARD
BEGIN:DAYLIGHT
TZNAME:CDT
DTSTART:20260308T020000
TZOFFSETFROM:-0600
TZOFFSETTO:-0500
RDATE:20270314T020000
END:DAYLIGHT
END:VTIMEZONE
BEGIN:VEVENT
UID:b213cfc3-72b5-4154-85ea-369a4bb0ad95
DTSTAMP:20260422T032243Z
DESCRIPTION:
DTSTART;TZID=America/Chicago:20260406T180000
DTEND;TZID=America/Chicago:20260406T200000
LOCATION:ONLINE
SUMMARY:Mission Team - ONLINE
END:VEVENT
END:VCALENDAR
