BEGIN:VCALENDAR
VERSION:2.0
PRODID:-//gcpc.org//NONSGML kigkonsult.se iCalcreator 2.30.10//
CALSCALE:GREGORIAN
METHOD:PUBLISH
UID:71a00022-eabb-4db3-a864-e63e93525b83
X-WR-CALDESC:
X-WR-RELCALID:80ccbad4ce012cb1283bb4675bb408ef
X-WR-TIMEZONE:America/Chicago
BEGIN:VTIMEZONE
TZID:America/Chicago
BEGIN:STANDARD
TZNAME:CST
DTSTART:20251102T020000
TZOFFSETFROM:-0500
TZOFFSETTO:-0600
RDATE:20261101T020000
END:STANDARD
BEGIN:DAYLIGHT
TZNAME:CDT
DTSTART:20260308T020000
TZOFFSETFROM:-0600
TZOFFSETTO:-0500
RDATE:20270314T020000
END:DAYLIGHT
END:VTIMEZONE
BEGIN:VEVENT
UID:dd59172e-e57b-4f81-8ae7-24bbf9377328
DTSTAMP:20260422T031241Z
DESCRIPTION:
DTSTART;TZID=America/Chicago:20260406T183000
DTEND;TZID=America/Chicago:20260406T193000
LOCATION:
SUMMARY:EncoreKC! Ukelele
END:VEVENT
END:VCALENDAR
