BEGIN:VCALENDAR
VERSION:2.0
PRODID:-//gcpc.org//NONSGML kigkonsult.se iCalcreator 2.30.10//
CALSCALE:GREGORIAN
METHOD:PUBLISH
UID:0666d958-95ae-4829-88c2-d4bde963be43
X-WR-CALDESC:Troop 122\n\nAdditional Contact:  Bill Brown\; brownchat12337@
 gmail.com
X-WR-RELCALID:e30bccac40e3c2ca73c04aca44685522
X-WR-TIMEZONE:America/Chicago
BEGIN:VTIMEZONE
TZID:America/Chicago
BEGIN:STANDARD
TZNAME:CST
DTSTART:20251102T020000
TZOFFSETFROM:-0500
TZOFFSETTO:-0600
RDATE:20261101T020000
END:STANDARD
BEGIN:DAYLIGHT
TZNAME:CDT
DTSTART:20260308T020000
TZOFFSETFROM:-0600
TZOFFSETTO:-0500
RDATE:20270314T020000
END:DAYLIGHT
END:VTIMEZONE
BEGIN:VEVENT
UID:61446475-2b08-4652-a7d4-df5e7af3c1df
DTSTAMP:20260422T030426Z
DESCRIPTION:Troop 122\n\nAdditional Contact:  Bill Brown\; brownchat12337@g
 mail.com
DTSTART;TZID=America/Chicago:20260406T183000
DTEND;TZID=America/Chicago:20260406T210000
LOCATION:OUTDOORS
SUMMARY:Scouts
END:VEVENT
END:VCALENDAR
