BEGIN:VCALENDAR
VERSION:2.0
PRODID:-//gcpc.org//NONSGML kigkonsult.se iCalcreator 2.30.10//
CALSCALE:GREGORIAN
METHOD:PUBLISH
UID:2cef4096-77f9-4a85-98c5-b12ac0350021
X-WR-CALDESC:
X-WR-RELCALID:5775196cf946b8464dac3c74d988f33d
X-WR-TIMEZONE:America/Chicago
BEGIN:VTIMEZONE
TZID:America/Chicago
BEGIN:STANDARD
TZNAME:CST
DTSTART:20251102T020000
TZOFFSETFROM:-0500
TZOFFSETTO:-0600
RDATE:20261101T020000
END:STANDARD
BEGIN:DAYLIGHT
TZNAME:CDT
DTSTART:20260308T020000
TZOFFSETFROM:-0600
TZOFFSETTO:-0500
RDATE:20270314T020000
END:DAYLIGHT
END:VTIMEZONE
BEGIN:VEVENT
UID:ad483109-16e2-4920-8bfd-8202031b58f2
DTSTAMP:20260422T031844Z
DESCRIPTION:
DTSTART;TZID=America/Chicago:20260406T193000
DTEND;TZID=America/Chicago:20260406T203000
LOCATION:ONLINE
SUMMARY:Music Team
END:VEVENT
END:VCALENDAR
