BEGIN:VCALENDAR
VERSION:2.0
PRODID:-//gcpc.org//NONSGML kigkonsult.se iCalcreator 2.30.10//
CALSCALE:GREGORIAN
METHOD:PUBLISH
UID:cf61e773-0c51-4ea6-b073-f76b99cb1808
X-WR-CALDESC:
X-WR-RELCALID:6e9b98dc64ab648ecd86df3c69063b3e
X-WR-TIMEZONE:America/Chicago
BEGIN:VTIMEZONE
TZID:America/Chicago
BEGIN:STANDARD
TZNAME:CST
DTSTART:20251102T020000
TZOFFSETFROM:-0500
TZOFFSETTO:-0600
RDATE:20261101T020000
END:STANDARD
BEGIN:DAYLIGHT
TZNAME:CDT
DTSTART:20260308T020000
TZOFFSETFROM:-0600
TZOFFSETTO:-0500
RDATE:20270314T020000
END:DAYLIGHT
END:VTIMEZONE
BEGIN:VEVENT
UID:ea77e2b5-cb49-4c8e-ae85-66e72512aaa2
DTSTAMP:20260422T031048Z
DESCRIPTION:
DTSTART;TZID=America/Chicago:20260406T050000
DTEND;TZID=America/Chicago:20260406T050001
LOCATION:
SUMMARY:Church Offices Closed - Easter Monday
END:VEVENT
END:VCALENDAR
