BEGIN:VCALENDAR
VERSION:2.0
PRODID:-//gcpc.org//NONSGML kigkonsult.se iCalcreator 2.30.10//
CALSCALE:GREGORIAN
METHOD:PUBLISH
UID:a8766a92-415b-4514-826e-26a852e28fd8
X-WR-CALDESC:
X-WR-RELCALID:872337587681a488e64ef245e926e818
X-WR-TIMEZONE:America/Chicago
BEGIN:VTIMEZONE
TZID:America/Chicago
BEGIN:STANDARD
TZNAME:CST
DTSTART:20251102T020000
TZOFFSETFROM:-0500
TZOFFSETTO:-0600
RDATE:20261101T020000
END:STANDARD
BEGIN:DAYLIGHT
TZNAME:CDT
DTSTART:20260308T020000
TZOFFSETFROM:-0600
TZOFFSETTO:-0500
RDATE:20270314T020000
END:DAYLIGHT
END:VTIMEZONE
BEGIN:VEVENT
UID:e48510bd-d861-469c-a307-97464a90223e
DTSTAMP:20260422T032707Z
DESCRIPTION:
DTSTART;TZID=America/Chicago:20260407T093000
DTEND;TZID=America/Chicago:20260407T113000
LOCATION:
SUMMARY:EncoreKC! Belle Voci Choir
END:VEVENT
END:VCALENDAR
