BEGIN:VCALENDAR
VERSION:2.0
PRODID:-//gcpc.org//NONSGML kigkonsult.se iCalcreator 2.30.10//
CALSCALE:GREGORIAN
METHOD:PUBLISH
UID:c1859f1a-0925-4ae4-b784-8f8d432ac566
X-WR-CALDESC:Generosity Team meetings meet via Zoom.
X-WR-RELCALID:e453fd74e99a150dc76165da9bc1c39b
X-WR-TIMEZONE:America/Chicago
BEGIN:VTIMEZONE
TZID:America/Chicago
BEGIN:STANDARD
TZNAME:CST
DTSTART:20251102T020000
TZOFFSETFROM:-0500
TZOFFSETTO:-0600
RDATE:20261101T020000
END:STANDARD
BEGIN:DAYLIGHT
TZNAME:CDT
DTSTART:20260308T020000
TZOFFSETFROM:-0600
TZOFFSETTO:-0500
RDATE:20270314T020000
END:DAYLIGHT
END:VTIMEZONE
BEGIN:VEVENT
UID:1dfa9ea8-ddf6-45ff-8143-7f3e1e09bca8
DTSTAMP:20260422T031933Z
DESCRIPTION:Generosity Team meetings meet via Zoom.
DTSTART;TZID=America/Chicago:20260408T203000
DTEND;TZID=America/Chicago:20260408T213000
LOCATION:
SUMMARY:Generosity Team - ONLINE
END:VEVENT
END:VCALENDAR
