BEGIN:VCALENDAR
VERSION:2.0
PRODID:-//gcpc.org//NONSGML kigkonsult.se iCalcreator 2.30.10//
CALSCALE:GREGORIAN
METHOD:PUBLISH
UID:78c5cd1f-ff82-44c1-b762-ba27518964e5
X-WR-CALDESC:
X-WR-RELCALID:1a4982a0f9d8af5895c770b3417a38fa
X-WR-TIMEZONE:America/Chicago
BEGIN:VTIMEZONE
TZID:America/Chicago
BEGIN:STANDARD
TZNAME:CST
DTSTART:20251102T020000
TZOFFSETFROM:-0500
TZOFFSETTO:-0600
RDATE:20261101T020000
END:STANDARD
BEGIN:DAYLIGHT
TZNAME:CDT
DTSTART:20260308T020000
TZOFFSETFROM:-0600
TZOFFSETTO:-0500
RDATE:20270314T020000
END:DAYLIGHT
END:VTIMEZONE
BEGIN:VEVENT
UID:661c49b2-91cd-4676-ba67-b365545c3747
DTSTAMP:20260422T031602Z
DESCRIPTION:
DTSTART;TZID=America/Chicago:20260409T130000
DTEND;TZID=America/Chicago:20260409T140000
LOCATION:
SUMMARY:EncoreKC! Woodwinds
END:VEVENT
END:VCALENDAR
