BEGIN:VCALENDAR
VERSION:2.0
PRODID:-//gcpc.org//NONSGML kigkonsult.se iCalcreator 2.30.10//
CALSCALE:GREGORIAN
METHOD:PUBLISH
UID:d7be66ec-1c59-4b8a-aa9a-6a9f13426241
X-WR-CALDESC:Meets in choir room.
X-WR-RELCALID:99879e8a2d317ee4dfd13cf27e863859
X-WR-TIMEZONE:America/Chicago
BEGIN:VTIMEZONE
TZID:America/Chicago
BEGIN:STANDARD
TZNAME:CST
DTSTART:20251102T020000
TZOFFSETFROM:-0500
TZOFFSETTO:-0600
RDATE:20261101T020000
END:STANDARD
BEGIN:DAYLIGHT
TZNAME:CDT
DTSTART:20260308T020000
TZOFFSETFROM:-0600
TZOFFSETTO:-0500
RDATE:20270314T020000
END:DAYLIGHT
END:VTIMEZONE
BEGIN:VEVENT
UID:471395fb-41a3-489e-96c3-aff109ba36e5
DTSTAMP:20260422T031701Z
DESCRIPTION:Meets in choir room.
DTSTART;TZID=America/Chicago:20260409T180000
DTEND;TZID=America/Chicago:20260409T190000
LOCATION:
SUMMARY:EncoreKC! Brass
END:VEVENT
END:VCALENDAR
