BEGIN:VCALENDAR
VERSION:2.0
PRODID:-//gcpc.org//NONSGML kigkonsult.se iCalcreator 2.30.10//
CALSCALE:GREGORIAN
METHOD:PUBLISH
UID:6e54ad2b-7804-4175-8ef5-ee075354570b
X-WR-CALDESC:
X-WR-RELCALID:8fe9a64fdfe11cdb171bc792a4794958
X-WR-TIMEZONE:America/Chicago
BEGIN:VTIMEZONE
TZID:America/Chicago
BEGIN:STANDARD
TZNAME:CST
DTSTART:20251102T020000
TZOFFSETFROM:-0500
TZOFFSETTO:-0600
RDATE:20261101T020000
END:STANDARD
BEGIN:DAYLIGHT
TZNAME:CDT
DTSTART:20260308T020000
TZOFFSETFROM:-0600
TZOFFSETTO:-0500
RDATE:20270314T020000
END:DAYLIGHT
END:VTIMEZONE
BEGIN:VEVENT
UID:237cb554-b7fa-4438-8391-b84c63449f66
DTSTAMP:20260422T025527Z
DESCRIPTION:
DTSTART;TZID=America/Chicago:20260412T070000
DTEND;TZID=America/Chicago:20260412T093000
LOCATION:
SUMMARY:Youth Breakfast
END:VEVENT
END:VCALENDAR
