BEGIN:VCALENDAR
VERSION:2.0
PRODID:-//gcpc.org//NONSGML kigkonsult.se iCalcreator 2.30.10//
CALSCALE:GREGORIAN
METHOD:PUBLISH
UID:e08c8d23-a6eb-4dad-844d-21a5745427cf
X-WR-CALDESC:
X-WR-RELCALID:7d5ac48ee614bebd58038fffd8548101
X-WR-TIMEZONE:America/Chicago
BEGIN:VTIMEZONE
TZID:America/Chicago
BEGIN:STANDARD
TZNAME:CST
DTSTART:20251102T020000
TZOFFSETFROM:-0500
TZOFFSETTO:-0600
RDATE:20261101T020000
END:STANDARD
BEGIN:DAYLIGHT
TZNAME:CDT
DTSTART:20260308T020000
TZOFFSETFROM:-0600
TZOFFSETTO:-0500
RDATE:20270314T020000
END:DAYLIGHT
END:VTIMEZONE
BEGIN:VEVENT
UID:d4d92d32-4e13-463b-a13e-ff36d345b7a4
DTSTAMP:20260422T030242Z
DESCRIPTION:
DTSTART;TZID=America/Chicago:20260412T050000
DTEND;TZID=America/Chicago:20260412T050001
LOCATION:
SUMMARY:YOUTH SUNDAY
END:VEVENT
END:VCALENDAR
