BEGIN:VCALENDAR
VERSION:2.0
PRODID:-//gcpc.org//NONSGML kigkonsult.se iCalcreator 2.30.10//
CALSCALE:GREGORIAN
METHOD:PUBLISH
UID:82c377ae-08ff-4839-b474-58da67528374
X-WR-CALDESC:
X-WR-RELCALID:487ca1cd6c9a5ff44f191e994e1d74a4
X-WR-TIMEZONE:America/Chicago
BEGIN:VTIMEZONE
TZID:America/Chicago
BEGIN:STANDARD
TZNAME:CST
DTSTART:20251102T020000
TZOFFSETFROM:-0500
TZOFFSETTO:-0600
RDATE:20261101T020000
END:STANDARD
BEGIN:DAYLIGHT
TZNAME:CDT
DTSTART:20260308T020000
TZOFFSETFROM:-0600
TZOFFSETTO:-0500
RDATE:20270314T020000
END:DAYLIGHT
END:VTIMEZONE
BEGIN:VEVENT
UID:d45ab6ce-3154-4200-b29e-0e2eb10ac762
DTSTAMP:20260422T032013Z
DESCRIPTION:
DTSTART;TZID=America/Chicago:20260413T093000
DTEND;TZID=America/Chicago:20260413T120000
LOCATION:
SUMMARY:EncoreKC! Choir & Act II
END:VEVENT
END:VCALENDAR
