BEGIN:VCALENDAR
VERSION:2.0
PRODID:-//gcpc.org//NONSGML kigkonsult.se iCalcreator 2.30.10//
CALSCALE:GREGORIAN
METHOD:PUBLISH
UID:73d2c6da-9bd5-4f5b-933e-d7c49498b565
X-WR-CALDESC:
X-WR-RELCALID:ae07af85c37c869f5bcaf35090044fda
X-WR-TIMEZONE:America/Chicago
BEGIN:VTIMEZONE
TZID:America/Chicago
BEGIN:STANDARD
TZNAME:CST
DTSTART:20251102T020000
TZOFFSETFROM:-0500
TZOFFSETTO:-0600
RDATE:20261101T020000
END:STANDARD
BEGIN:DAYLIGHT
TZNAME:CDT
DTSTART:20260308T020000
TZOFFSETFROM:-0600
TZOFFSETTO:-0500
RDATE:20270314T020000
END:DAYLIGHT
END:VTIMEZONE
BEGIN:VEVENT
UID:7c13ae6a-1e86-47c6-b867-88289b441f40
DTSTAMP:20260422T031836Z
DESCRIPTION:
DTSTART;TZID=America/Chicago:20260413T173000
DTEND;TZID=America/Chicago:20260413T183000
LOCATION:ONLINE
SUMMARY:Operations Committee - ONLINE
END:VEVENT
END:VCALENDAR
