BEGIN:VCALENDAR
VERSION:2.0
PRODID:-//gcpc.org//NONSGML kigkonsult.se iCalcreator 2.30.10//
CALSCALE:GREGORIAN
METHOD:PUBLISH
UID:622d4b2e-4a7b-47fb-a609-43863da96b6f
X-WR-CALDESC:
X-WR-RELCALID:fef38d00f802eb575f7830f979667646
X-WR-TIMEZONE:America/Chicago
BEGIN:VTIMEZONE
TZID:America/Chicago
BEGIN:STANDARD
TZNAME:CST
DTSTART:20251102T020000
TZOFFSETFROM:-0500
TZOFFSETTO:-0600
RDATE:20261101T020000
END:STANDARD
BEGIN:DAYLIGHT
TZNAME:CDT
DTSTART:20260308T020000
TZOFFSETFROM:-0600
TZOFFSETTO:-0500
RDATE:20270314T020000
END:DAYLIGHT
END:VTIMEZONE
BEGIN:VEVENT
UID:51a2e24a-cf7b-492e-bbae-f032b5156d9e
DTSTAMP:20260422T031119Z
DESCRIPTION:
DTSTART;TZID=America/Chicago:20260413T183000
DTEND;TZID=America/Chicago:20260413T193000
LOCATION:
SUMMARY:EncoreKC! Ukelele
END:VEVENT
END:VCALENDAR
