BEGIN:VCALENDAR
VERSION:2.0
PRODID:-//gcpc.org//NONSGML kigkonsult.se iCalcreator 2.30.10//
CALSCALE:GREGORIAN
METHOD:PUBLISH
UID:c0a7133b-e1cb-4bed-ab61-cb2725585b3d
X-WR-CALDESC:
X-WR-RELCALID:273fd0c7737eef2950f3a140cf7d5db3
X-WR-TIMEZONE:America/Chicago
BEGIN:VTIMEZONE
TZID:America/Chicago
BEGIN:STANDARD
TZNAME:CST
DTSTART:20251102T020000
TZOFFSETFROM:-0500
TZOFFSETTO:-0600
RDATE:20261101T020000
END:STANDARD
BEGIN:DAYLIGHT
TZNAME:CDT
DTSTART:20260308T020000
TZOFFSETFROM:-0600
TZOFFSETTO:-0500
RDATE:20270314T020000
END:DAYLIGHT
END:VTIMEZONE
BEGIN:VEVENT
UID:9299ef4c-515e-4aee-aeb8-655b5e068c8b
DTSTAMP:20260422T032705Z
DESCRIPTION:
DTSTART;TZID=America/Chicago:20260414T093000
DTEND;TZID=America/Chicago:20260414T113000
LOCATION:
SUMMARY:EncoreKC! Belle Voci Choir
END:VEVENT
END:VCALENDAR
