BEGIN:VCALENDAR
VERSION:2.0
PRODID:-//gcpc.org//NONSGML kigkonsult.se iCalcreator 2.30.10//
CALSCALE:GREGORIAN
METHOD:PUBLISH
UID:6b21a318-653a-4776-9c49-8fd73cb0c70e
X-WR-CALDESC:Meets in Room 21. Contact Pat Collins\, p5c_70@yahoo.com\, for
  more information.
X-WR-RELCALID:0f00311ff15effcae9a55773b1fbf936
X-WR-TIMEZONE:America/Chicago
BEGIN:VTIMEZONE
TZID:America/Chicago
BEGIN:STANDARD
TZNAME:CST
DTSTART:20251102T020000
TZOFFSETFROM:-0500
TZOFFSETTO:-0600
RDATE:20261101T020000
END:STANDARD
BEGIN:DAYLIGHT
TZNAME:CDT
DTSTART:20260308T020000
TZOFFSETFROM:-0600
TZOFFSETTO:-0500
RDATE:20270314T020000
END:DAYLIGHT
END:VTIMEZONE
BEGIN:VEVENT
UID:15527951-74ee-440f-a65f-964382293862
DTSTAMP:20260422T031246Z
DESCRIPTION:Meets in Room 21. Contact Pat Collins\, p5c_70@yahoo.com\, for 
 more information.
DTSTART;TZID=America/Chicago:20260414T130000
DTEND;TZID=America/Chicago:20260414T143000
LOCATION:Room 21
SUMMARY:Crafters (Daytime)
END:VEVENT
END:VCALENDAR
