BEGIN:VCALENDAR
VERSION:2.0
PRODID:-//gcpc.org//NONSGML kigkonsult.se iCalcreator 2.30.10//
CALSCALE:GREGORIAN
METHOD:PUBLISH
UID:c105e79f-2f3e-4ebb-954a-ca0c9684cff5
X-WR-CALDESC:
X-WR-RELCALID:d54f169028d979963d63a7693618cd36
X-WR-TIMEZONE:America/Chicago
BEGIN:VTIMEZONE
TZID:America/Chicago
BEGIN:STANDARD
TZNAME:CST
DTSTART:20251102T020000
TZOFFSETFROM:-0500
TZOFFSETTO:-0600
RDATE:20261101T020000
END:STANDARD
BEGIN:DAYLIGHT
TZNAME:CDT
DTSTART:20260308T020000
TZOFFSETFROM:-0600
TZOFFSETTO:-0500
RDATE:20270314T020000
END:DAYLIGHT
END:VTIMEZONE
BEGIN:VEVENT
UID:d35f68b3-62b8-48c4-a39e-85dd30e21ef5
DTSTAMP:20260422T031113Z
DESCRIPTION:
DTSTART;TZID=America/Chicago:20260414T173000
DTEND;TZID=America/Chicago:20260414T200000
LOCATION:Room 3
SUMMARY:Finance Team - ONLINE
END:VEVENT
END:VCALENDAR
