BEGIN:VCALENDAR
VERSION:2.0
PRODID:-//gcpc.org//NONSGML kigkonsult.se iCalcreator 2.30.10//
CALSCALE:GREGORIAN
METHOD:PUBLISH
UID:86f707e5-1c87-4050-9b23-ccb950c53a5b
X-WR-CALDESC:
X-WR-RELCALID:7cd35cf504b1f3880d221487fb78ace6
X-WR-TIMEZONE:America/Chicago
BEGIN:VTIMEZONE
TZID:America/Chicago
BEGIN:STANDARD
TZNAME:CST
DTSTART:20251102T020000
TZOFFSETFROM:-0500
TZOFFSETTO:-0600
RDATE:20261101T020000
END:STANDARD
BEGIN:DAYLIGHT
TZNAME:CDT
DTSTART:20260308T020000
TZOFFSETFROM:-0600
TZOFFSETTO:-0500
RDATE:20270314T020000
END:DAYLIGHT
END:VTIMEZONE
BEGIN:VEVENT
UID:749a24c2-e975-4665-a93c-23a8dde70029
DTSTAMP:20260422T032242Z
DESCRIPTION:
DTSTART;TZID=America/Chicago:20260414T190000
DTEND;TZID=America/Chicago:20260414T203000
LOCATION:ONLINE
SUMMARY:Youth Team - ONLINE
END:VEVENT
END:VCALENDAR
