BEGIN:VCALENDAR
VERSION:2.0
PRODID:-//gcpc.org//NONSGML kigkonsult.se iCalcreator 2.30.10//
CALSCALE:GREGORIAN
METHOD:PUBLISH
UID:b329b54c-6af9-4e60-879e-5607bfc0172e
X-WR-CALDESC:Meets in choir room.
X-WR-RELCALID:203fcef25e4ce2cf5b11c02db6123a03
X-WR-TIMEZONE:America/Chicago
BEGIN:VTIMEZONE
TZID:America/Chicago
BEGIN:STANDARD
TZNAME:CST
DTSTART:20251102T020000
TZOFFSETFROM:-0500
TZOFFSETTO:-0600
RDATE:20261101T020000
END:STANDARD
BEGIN:DAYLIGHT
TZNAME:CDT
DTSTART:20260308T020000
TZOFFSETFROM:-0600
TZOFFSETTO:-0500
RDATE:20270314T020000
END:DAYLIGHT
END:VTIMEZONE
BEGIN:VEVENT
UID:714250f4-8f39-49ca-b409-3d0183ad1717
DTSTAMP:20260422T030528Z
DESCRIPTION:Meets in choir room.
DTSTART;TZID=America/Chicago:20260416T180000
DTEND;TZID=America/Chicago:20260416T190000
LOCATION:
SUMMARY:EncoreKC! Brass
END:VEVENT
END:VCALENDAR
