BEGIN:VCALENDAR
VERSION:2.0
PRODID:-//gcpc.org//NONSGML kigkonsult.se iCalcreator 2.30.10//
CALSCALE:GREGORIAN
METHOD:PUBLISH
UID:d4ed62be-ce0a-4b8f-9450-67564d0a3943
X-WR-CALDESC:
X-WR-RELCALID:fa6055dbf4b61c2a758249f37cf3ff25
X-WR-TIMEZONE:America/Chicago
BEGIN:VTIMEZONE
TZID:America/Chicago
BEGIN:STANDARD
TZNAME:CST
DTSTART:20251102T020000
TZOFFSETFROM:-0500
TZOFFSETTO:-0600
RDATE:20261101T020000
END:STANDARD
BEGIN:DAYLIGHT
TZNAME:CDT
DTSTART:20260308T020000
TZOFFSETFROM:-0600
TZOFFSETTO:-0500
RDATE:20270314T020000
END:DAYLIGHT
END:VTIMEZONE
BEGIN:VEVENT
UID:0aa57abe-6447-4b12-a55f-249aa18a08b1
DTSTAMP:20260422T030218Z
DESCRIPTION:
DTSTART;TZID=America/Chicago:20260416T180000
DTEND;TZID=America/Chicago:20260416T200000
LOCATION:Room 3
SUMMARY:Facilities Team
END:VEVENT
END:VCALENDAR
