BEGIN:VCALENDAR
VERSION:2.0
PRODID:-//gcpc.org//NONSGML kigkonsult.se iCalcreator 2.30.10//
CALSCALE:GREGORIAN
METHOD:PUBLISH
UID:b43add66-80b1-48cb-a3a8-21df56f59b03
X-WR-CALDESC:
X-WR-RELCALID:9dbe8d44d3b01ed773901b5c3b46310f
X-WR-TIMEZONE:America/Chicago
BEGIN:VTIMEZONE
TZID:America/Chicago
BEGIN:STANDARD
TZNAME:CST
DTSTART:20251102T020000
TZOFFSETFROM:-0500
TZOFFSETTO:-0600
RDATE:20261101T020000
END:STANDARD
BEGIN:DAYLIGHT
TZNAME:CDT
DTSTART:20260308T020000
TZOFFSETFROM:-0600
TZOFFSETTO:-0500
RDATE:20270314T020000
END:DAYLIGHT
END:VTIMEZONE
BEGIN:VEVENT
UID:30725e0e-9d35-46eb-b421-4fa24451244a
DTSTAMP:20260422T030534Z
DESCRIPTION:
DTSTART;TZID=America/Chicago:20260419T104500
DTEND;TZID=America/Chicago:20260419T114500
LOCATION:
SUMMARY:Christian Education
END:VEVENT
END:VCALENDAR
