BEGIN:VCALENDAR
VERSION:2.0
PRODID:-//gcpc.org//NONSGML kigkonsult.se iCalcreator 2.30.10//
CALSCALE:GREGORIAN
METHOD:PUBLISH
UID:3bc9fe6b-e259-43a3-8f9b-d4915d3c91e9
X-WR-CALDESC:
X-WR-RELCALID:bdc7021e8a81eeeb441719e4d7966c7f
X-WR-TIMEZONE:America/Chicago
BEGIN:VTIMEZONE
TZID:America/Chicago
BEGIN:STANDARD
TZNAME:CST
DTSTART:20251102T020000
TZOFFSETFROM:-0500
TZOFFSETTO:-0600
RDATE:20261101T020000
END:STANDARD
BEGIN:DAYLIGHT
TZNAME:CDT
DTSTART:20260308T020000
TZOFFSETFROM:-0600
TZOFFSETTO:-0500
RDATE:20270314T020000
END:DAYLIGHT
END:VTIMEZONE
BEGIN:VEVENT
UID:9cd09447-bd09-4f45-ab8f-1ade0f2a8c7d
DTSTAMP:20260422T030426Z
DESCRIPTION:
DTSTART;TZID=America/Chicago:20260420T183000
DTEND;TZID=America/Chicago:20260420T193000
LOCATION:
SUMMARY:EncoreKC! Ukelele
END:VEVENT
END:VCALENDAR
