BEGIN:VCALENDAR
VERSION:2.0
PRODID:-//gcpc.org//NONSGML kigkonsult.se iCalcreator 2.30.10//
CALSCALE:GREGORIAN
METHOD:PUBLISH
UID:51fd90a7-168d-4384-aad5-28bd109c7a4e
X-WR-CALDESC:Grace Notes Newsletter article deadline - Submit articles to t
 he church office by Noon.\nThe newsletter is published on the 1st day of t
 he month.\nTo subscribe\, contact the church office.
X-WR-RELCALID:fa3b24f067ba99f18b691b911ad68eec
X-WR-TIMEZONE:America/Chicago
BEGIN:VTIMEZONE
TZID:America/Chicago
BEGIN:STANDARD
TZNAME:CST
DTSTART:20251102T020000
TZOFFSETFROM:-0500
TZOFFSETTO:-0600
RDATE:20261101T020000
END:STANDARD
BEGIN:DAYLIGHT
TZNAME:CDT
DTSTART:20260308T020000
TZOFFSETFROM:-0600
TZOFFSETTO:-0500
RDATE:20270314T020000
END:DAYLIGHT
END:VTIMEZONE
BEGIN:VEVENT
UID:767f8091-834d-4976-8998-f966e7152ddf
DTSTAMP:20260422T032143Z
DESCRIPTION:Grace Notes Newsletter article deadline - Submit articles to th
 e church office by Noon.\nThe newsletter is published on the 1st day of th
 e month.\nTo subscribe\, contact the church office.
DTSTART;TZID=America/Chicago:20260421T000000
DTEND;TZID=America/Chicago:20260421T235900
LOCATION:
SUMMARY:NEWSLETTER DEADLINE
END:VEVENT
END:VCALENDAR
