BEGIN:VCALENDAR
VERSION:2.0
PRODID:-//gcpc.org//NONSGML kigkonsult.se iCalcreator 2.30.10//
CALSCALE:GREGORIAN
METHOD:PUBLISH
UID:34944680-cdf6-42c4-8246-0b9a577c8ea0
X-WR-CALDESC:
X-WR-RELCALID:722ca44a67eff3f6bc54146b7e204caa
X-WR-TIMEZONE:America/Chicago
BEGIN:VTIMEZONE
TZID:America/Chicago
BEGIN:STANDARD
TZNAME:CST
DTSTART:20251102T020000
TZOFFSETFROM:-0500
TZOFFSETTO:-0600
RDATE:20261101T020000
END:STANDARD
BEGIN:DAYLIGHT
TZNAME:CDT
DTSTART:20260308T020000
TZOFFSETFROM:-0600
TZOFFSETTO:-0500
RDATE:20270314T020000
END:DAYLIGHT
END:VTIMEZONE
BEGIN:VEVENT
UID:9c208707-c88d-4497-b01f-0f4e8ef3d19e
DTSTAMP:20260422T032330Z
DESCRIPTION:
DTSTART;TZID=America/Chicago:20260421T190000
DTEND;TZID=America/Chicago:20260421T203000
LOCATION:
SUMMARY:Praise Team Rehearsal
END:VEVENT
END:VCALENDAR
