BEGIN:VCALENDAR
VERSION:2.0
PRODID:-//gcpc.org//NONSGML kigkonsult.se iCalcreator 2.30.10//
CALSCALE:GREGORIAN
METHOD:PUBLISH
UID:7f9d3eb0-6a47-4a61-87cf-e21acdf10c69
X-WR-CALDESC:Submit bulletin articles by email to Patrick Bell in the churc
 h office by Noon each Wednesday.
X-WR-RELCALID:ebdfa0a20c7bbe8ef84b99a4bebcd5e1
X-WR-TIMEZONE:America/Chicago
BEGIN:VTIMEZONE
TZID:America/Chicago
BEGIN:STANDARD
TZNAME:CST
DTSTART:20251102T020000
TZOFFSETFROM:-0500
TZOFFSETTO:-0600
RDATE:20261101T020000
END:STANDARD
BEGIN:DAYLIGHT
TZNAME:CDT
DTSTART:20260308T020000
TZOFFSETFROM:-0600
TZOFFSETTO:-0500
RDATE:20270314T020000
END:DAYLIGHT
END:VTIMEZONE
BEGIN:VEVENT
UID:549fa3e3-0cbe-4d5e-b6cb-9618d5b77f45
DTSTAMP:20260422T031741Z
DESCRIPTION:Submit bulletin articles by email to Patrick Bell in the church
  office by Noon each Wednesday.
DTSTART;TZID=America/Chicago:20260422T120000
DTEND;TZID=America/Chicago:20260422T120100
LOCATION:
SUMMARY:Bulletin Deadline
END:VEVENT
END:VCALENDAR
