BEGIN:VCALENDAR
VERSION:2.0
PRODID:-//gcpc.org//NONSGML kigkonsult.se iCalcreator 2.30.10//
CALSCALE:GREGORIAN
METHOD:PUBLISH
UID:1a3da826-05e8-4729-817d-bddbb0bcfeef
X-WR-CALDESC:The Charter Ringers are an ensemble for intermediate to advanc
 ed handbell ringers and play a range of exciting and challenging music. Th
 ey are co-directed by Celia Nicholas and Chris Krug and rehearse on Wednes
 days from 6:00-7:00pm in Room 1.
X-WR-RELCALID:5139cffbfcf9e38054f45cdc70b09ca1
X-WR-TIMEZONE:America/Chicago
BEGIN:VTIMEZONE
TZID:America/Chicago
BEGIN:STANDARD
TZNAME:CST
DTSTART:20251102T020000
TZOFFSETFROM:-0500
TZOFFSETTO:-0600
RDATE:20261101T020000
END:STANDARD
BEGIN:DAYLIGHT
TZNAME:CDT
DTSTART:20260308T020000
TZOFFSETFROM:-0600
TZOFFSETTO:-0500
RDATE:20270314T020000
END:DAYLIGHT
END:VTIMEZONE
BEGIN:VEVENT
UID:edf709dc-a484-4575-9a20-66cc59ef0bfb
DTSTAMP:20260422T031700Z
DESCRIPTION:The Charter Ringers are an ensemble for intermediate to advance
 d handbell ringers and play a range of exciting and challenging music. The
 y are co-directed by Celia Nicholas and Chris Krug and rehearse on Wednesd
 ays from 6:00-7:00pm in Room 1.
DTSTART;TZID=America/Chicago:20260422T180000
DTEND;TZID=America/Chicago:20260422T190000
LOCATION:Meets in Room 1\, Bell Room.
SUMMARY:Charter Ringers
END:VEVENT
END:VCALENDAR
