BEGIN:VCALENDAR
VERSION:2.0
PRODID:-//gcpc.org//NONSGML kigkonsult.se iCalcreator 2.30.10//
CALSCALE:GREGORIAN
METHOD:PUBLISH
UID:535e3c5b-3570-4b8b-9e9f-4b7f023f9c77
X-WR-CALDESC:
X-WR-RELCALID:e3f289d6dd8f5db6a27461683f7c2d00
X-WR-TIMEZONE:America/Chicago
BEGIN:VTIMEZONE
TZID:America/Chicago
BEGIN:STANDARD
TZNAME:CST
DTSTART:20251102T020000
TZOFFSETFROM:-0500
TZOFFSETTO:-0600
RDATE:20261101T020000
END:STANDARD
BEGIN:DAYLIGHT
TZNAME:CDT
DTSTART:20260308T020000
TZOFFSETFROM:-0600
TZOFFSETTO:-0500
RDATE:20270314T020000
END:DAYLIGHT
END:VTIMEZONE
BEGIN:VEVENT
UID:c8b37c91-19ab-4b05-81a3-e31d212abc53
DTSTAMP:20260422T032632Z
DESCRIPTION:
DTSTART;TZID=America/Chicago:20260425T090000
DTEND;TZID=America/Chicago:20260425T120000
LOCATION:
SUMMARY:Organ Rehearsal
END:VEVENT
END:VCALENDAR
