BEGIN:VCALENDAR
VERSION:2.0
PRODID:-//gcpc.org//NONSGML kigkonsult.se iCalcreator 2.30.10//
CALSCALE:GREGORIAN
METHOD:PUBLISH
UID:dd5728f0-b1d3-441d-9d8d-bf22cd2237b8
X-WR-CALDESC:Uplift is a homeless outreach program. They are an all volunte
 er group founded in 1990\, not funded by federal\, state or local governme
 nt grants or sponsored by other organizations and/or agencies. Uplift  sur
 vives by donations and through a personal commitment to feed and clothe th
 e area’s homeless\, by individuals\, churches and organizations in the Kan
 sas City Metro Area.\n\nGrace Covenant prepares lunches for Uplift on the 
 4th Saturday of every month.
X-WR-RELCALID:4076958b6febbb4ca13112f1e9e2d87c
X-WR-TIMEZONE:America/Chicago
BEGIN:VTIMEZONE
TZID:America/Chicago
BEGIN:STANDARD
TZNAME:CST
DTSTART:20251102T020000
TZOFFSETFROM:-0500
TZOFFSETTO:-0600
RDATE:20261101T020000
END:STANDARD
BEGIN:DAYLIGHT
TZNAME:CDT
DTSTART:20260308T020000
TZOFFSETFROM:-0600
TZOFFSETTO:-0500
RDATE:20270314T020000
END:DAYLIGHT
END:VTIMEZONE
BEGIN:VEVENT
UID:cb02c4a9-bd66-4ff5-84d9-e19c90606b7d
DTSTAMP:20260422T030918Z
DESCRIPTION:Uplift is a homeless outreach program. They are an all voluntee
 r group founded in 1990\, not funded by federal\, state or local governmen
 t grants or sponsored by other organizations and/or agencies. Uplift  surv
 ives by donations and through a personal commitment to feed and clothe the
  area’s homeless\, by individuals\, churches and organizations in the Kans
 as City Metro Area.\n\nGrace Covenant prepares lunches for Uplift on the 4
 th Saturday of every month.
DTSTART;TZID=America/Chicago:20260425T103000
DTEND;TZID=America/Chicago:20260425T120000
LOCATION:Kitchen
SUMMARY:Uplift
END:VEVENT
END:VCALENDAR
