BEGIN:VCALENDAR
VERSION:2.0
PRODID:-//gcpc.org//NONSGML kigkonsult.se iCalcreator 2.30.10//
CALSCALE:GREGORIAN
METHOD:PUBLISH
UID:ee1bdafe-8b49-4f53-8683-2caee6141485
X-WR-CALDESC:Memorial Service with a reception following for Harold Farren.
X-WR-RELCALID:fb37887add7e9caad42ab9d755decff4
X-WR-TIMEZONE:America/Chicago
BEGIN:VTIMEZONE
TZID:America/Chicago
BEGIN:STANDARD
TZNAME:CST
DTSTART:20251102T020000
TZOFFSETFROM:-0500
TZOFFSETTO:-0600
RDATE:20261101T020000
END:STANDARD
BEGIN:DAYLIGHT
TZNAME:CDT
DTSTART:20260308T020000
TZOFFSETFROM:-0600
TZOFFSETTO:-0500
RDATE:20270314T020000
END:DAYLIGHT
END:VTIMEZONE
BEGIN:VEVENT
UID:9ffbec17-573d-4956-b530-9146e7e2e4cb
DTSTAMP:20260422T025248Z
DESCRIPTION:Memorial Service with a reception following for Harold Farren.
DTSTART;TZID=America/Chicago:20260425T130000
DTEND;TZID=America/Chicago:20260425T150000
LOCATION:
SUMMARY:Farren Memorial/Reception
END:VEVENT
END:VCALENDAR
