BEGIN:VCALENDAR
VERSION:2.0
PRODID:-//gcpc.org//NONSGML kigkonsult.se iCalcreator 2.30.10//
CALSCALE:GREGORIAN
METHOD:PUBLISH
UID:de15dfc5-6ad7-45bf-8447-d04043163f1f
X-WR-CALDESC:
X-WR-RELCALID:b3b21d077efcc7ad2ec8f2a07c98acf5
X-WR-TIMEZONE:America/Chicago
BEGIN:VTIMEZONE
TZID:America/Chicago
BEGIN:STANDARD
TZNAME:CST
DTSTART:20251102T020000
TZOFFSETFROM:-0500
TZOFFSETTO:-0600
RDATE:20261101T020000
END:STANDARD
BEGIN:DAYLIGHT
TZNAME:CDT
DTSTART:20260308T020000
TZOFFSETFROM:-0600
TZOFFSETTO:-0500
RDATE:20270314T020000
END:DAYLIGHT
END:VTIMEZONE
BEGIN:VEVENT
UID:c8d26e06-3bf6-4210-9d1c-62d06e30b7fb
DTSTAMP:20260422T032241Z
DESCRIPTION:
DTSTART;TZID=America/Chicago:20260427T173000
DTEND;TZID=America/Chicago:20260427T184500
LOCATION:ONLINE
SUMMARY:Welcoming Team- ONLINE
END:VEVENT
END:VCALENDAR
