BEGIN:VCALENDAR
VERSION:2.0
PRODID:-//gcpc.org//NONSGML kigkonsult.se iCalcreator 2.30.10//
CALSCALE:GREGORIAN
METHOD:PUBLISH
UID:103be40e-0e31-4649-9e78-1c3bae39bea3
X-WR-CALDESC:Meets in choir room.
X-WR-RELCALID:03b510c4e2af3a78b0a9b88533c7a8cf
X-WR-TIMEZONE:America/Chicago
BEGIN:VTIMEZONE
TZID:America/Chicago
BEGIN:STANDARD
TZNAME:CST
DTSTART:20251102T020000
TZOFFSETFROM:-0500
TZOFFSETTO:-0600
RDATE:20261101T020000
END:STANDARD
BEGIN:DAYLIGHT
TZNAME:CDT
DTSTART:20260308T020000
TZOFFSETFROM:-0600
TZOFFSETTO:-0500
RDATE:20270314T020000
END:DAYLIGHT
END:VTIMEZONE
BEGIN:VEVENT
UID:82f7cb02-292e-438d-9ef7-3f43b47011f7
DTSTAMP:20260422T030549Z
DESCRIPTION:Meets in choir room.
DTSTART;TZID=America/Chicago:20260430T180000
DTEND;TZID=America/Chicago:20260430T190000
LOCATION:
SUMMARY:EncoreKC! Brass
END:VEVENT
END:VCALENDAR
