BEGIN:VCALENDAR
VERSION:2.0
PRODID:-//gcpc.org//NONSGML kigkonsult.se iCalcreator 2.30.10//
CALSCALE:GREGORIAN
METHOD:PUBLISH
UID:efd1e5e3-1018-4731-a8b0-757aeb45b6c0
X-WR-CALDESC:Thursday Bible Study - Meet on the 2nd & 4th Thursdays from 9:
 30–11am in Room 5. Prayer\, Bible study\, discussion. Contact Cheryl Johns
 on or Lee Mattix for more information.
X-WR-RELCALID:4b393207e8efeb2bfd520ba6f300c36c
X-WR-TIMEZONE:America/Chicago
BEGIN:VTIMEZONE
TZID:America/Chicago
BEGIN:STANDARD
TZNAME:CST
DTSTART:20271107T020000
TZOFFSETFROM:-0500
TZOFFSETTO:-0600
RDATE:20281105T020000
END:STANDARD
BEGIN:DAYLIGHT
TZNAME:CDT
DTSTART:20280312T020000
TZOFFSETFROM:-0600
TZOFFSETTO:-0500
RDATE:20290311T020000
END:DAYLIGHT
END:VTIMEZONE
BEGIN:VEVENT
UID:465d5ccc-2bca-4cfe-bdb0-341553fe026b
DTSTAMP:20260420T020040Z
DESCRIPTION:Thursday Bible Study - Meet on the 2nd & 4th Thursdays from 9:3
 0–11am in Room 5. Prayer\, Bible study\, discussion. Contact Cheryl Johnso
 n or Lee Mattix for more information.
DTSTART;TZID=America/Chicago:20280413T093000
DTEND;TZID=America/Chicago:20280413T110000
LOCATION:Room 5
SUMMARY:Thursday Bible Study
END:VEVENT
END:VCALENDAR
