BEGIN:VCALENDAR
VERSION:2.0
PRODID:-//gcpc.org//NONSGML kigkonsult.se iCalcreator 2.30.10//
CALSCALE:GREGORIAN
METHOD:PUBLISH
UID:a97011b3-2744-49e6-a5c5-107709702335
X-WR-CALDESC:Thursday Bible Study - Meet on the 2nd & 4th Thursdays from 9:
 30–11am in Room 5. Prayer\, Bible study\, discussion. Contact Cheryl Johns
 on or Lee Mattix for more information.
X-WR-RELCALID:ff28c0ea3ddd98445ff2d35d3fc4915f
X-WR-TIMEZONE:America/Chicago
BEGIN:VTIMEZONE
TZID:America/Chicago
BEGIN:STANDARD
TZNAME:CST
DTSTART:20281105T020000
TZOFFSETFROM:-0500
TZOFFSETTO:-0600
RDATE:20291104T020000
RDATE:20301103T020000
END:STANDARD
BEGIN:DAYLIGHT
TZNAME:CDT
DTSTART:20290311T020000
TZOFFSETFROM:-0600
TZOFFSETTO:-0500
RDATE:20300310T020000
END:DAYLIGHT
END:VTIMEZONE
BEGIN:VEVENT
UID:d9932d9b-cf31-4d4d-84bf-e13f3b26a067
DTSTAMP:20260421T075919Z
DESCRIPTION:Thursday Bible Study - Meet on the 2nd & 4th Thursdays from 9:3
 0–11am in Room 5. Prayer\, Bible study\, discussion. Contact Cheryl Johnso
 n or Lee Mattix for more information.
DTSTART;TZID=America/Chicago:20290809T093000
DTEND;TZID=America/Chicago:20290809T110000
LOCATION:Room 5
SUMMARY:Thursday Bible Study
END:VEVENT
END:VCALENDAR
