BEGIN:VCALENDAR
VERSION:2.0
PRODID:-//gcpc.org//NONSGML kigkonsult.se iCalcreator 2.30.10//
CALSCALE:GREGORIAN
METHOD:PUBLISH
UID:456cef3b-0f2b-4056-9b31-08c7de354c0b
X-WR-CALDESC:Thursday Bible Study - Meet on the 2nd & 4th Thursdays from 9:
 30–11am in Room 5. Prayer\, Bible study\, discussion. Contact Cheryl Johns
 on or Lee Mattix for more information.
X-WR-RELCALID:4767b5b60dc5d89372b0b893d058b3a1
X-WR-TIMEZONE:America/Chicago
BEGIN:VTIMEZONE
TZID:America/Chicago
BEGIN:STANDARD
TZNAME:CST
DTSTART:20291104T020000
TZOFFSETFROM:-0500
TZOFFSETTO:-0600
RDATE:20301103T020000
END:STANDARD
BEGIN:DAYLIGHT
TZNAME:CDT
DTSTART:20290311T020000
TZOFFSETFROM:-0600
TZOFFSETTO:-0500
RDATE:20300310T020000
RDATE:20310309T020000
END:DAYLIGHT
END:VTIMEZONE
BEGIN:VEVENT
UID:fba21436-d877-4fa6-adb5-4646da436695
DTSTAMP:20260421T175239Z
DESCRIPTION:Thursday Bible Study - Meet on the 2nd & 4th Thursdays from 9:3
 0–11am in Room 5. Prayer\, Bible study\, discussion. Contact Cheryl Johnso
 n or Lee Mattix for more information.
DTSTART;TZID=America/Chicago:20300214T093000
DTEND;TZID=America/Chicago:20300214T110000
LOCATION:Room 5
SUMMARY:Thursday Bible Study
END:VEVENT
END:VCALENDAR
