BEGIN:VCALENDAR
VERSION:2.0
PRODID:-//gcpc.org//NONSGML kigkonsult.se iCalcreator 2.30.10//
CALSCALE:GREGORIAN
METHOD:PUBLISH
UID:4774efa9-2388-4789-baf0-1e5264e43a8d
X-WR-CALDESC:Thursday Bible Study - Meet on the 2nd & 4th Thursdays from 9:
 30–11am in Room 5. Prayer\, Bible study\, discussion. Contact Cheryl Johns
 on or Lee Mattix for more information.
X-WR-RELCALID:20de65a70845c7d978d44fe452d0c448
X-WR-TIMEZONE:America/Chicago
BEGIN:VTIMEZONE
TZID:America/Chicago
BEGIN:STANDARD
TZNAME:CST
DTSTART:20301103T020000
TZOFFSETFROM:-0500
TZOFFSETTO:-0600
RDATE:20311102T020000
END:STANDARD
BEGIN:DAYLIGHT
TZNAME:CDT
DTSTART:20310309T020000
TZOFFSETFROM:-0600
TZOFFSETTO:-0500
RDATE:20320314T020000
END:DAYLIGHT
END:VTIMEZONE
BEGIN:VEVENT
UID:3a1efa40-9a2c-4593-a42c-9f0574c7eb2a
DTSTAMP:20260422T223721Z
DESCRIPTION:Thursday Bible Study - Meet on the 2nd & 4th Thursdays from 9:3
 0–11am in Room 5. Prayer\, Bible study\, discussion. Contact Cheryl Johnso
 n or Lee Mattix for more information.
DTSTART;TZID=America/Chicago:20310410T093000
DTEND;TZID=America/Chicago:20310410T110000
LOCATION:Room 5
SUMMARY:Thursday Bible Study
END:VEVENT
END:VCALENDAR
