BEGIN:VCALENDAR
VERSION:2.0
PRODID:-//gcpc.org//NONSGML kigkonsult.se iCalcreator 2.30.10//
CALSCALE:GREGORIAN
METHOD:PUBLISH
UID:f0792f4b-5e51-45e0-b18d-8fce07093dd9
X-WR-CALDESC:
X-WR-RELCALID:a8fd0716d8bf4a3b5c0941ff96adece0
X-WR-TIMEZONE:America/Chicago
BEGIN:VTIMEZONE
TZID:America/Chicago
BEGIN:STANDARD
TZNAME:CST
DTSTART:20251102T020000
TZOFFSETFROM:-0500
TZOFFSETTO:-0600
RDATE:20261101T020000
END:STANDARD
BEGIN:DAYLIGHT
TZNAME:CDT
DTSTART:20250309T020000
TZOFFSETFROM:-0600
TZOFFSETTO:-0500
RDATE:20260308T020000
RDATE:20270314T020000
END:DAYLIGHT
END:VTIMEZONE
BEGIN:VEVENT
UID:ecf36813-6b6d-477c-92c3-01e64b59a39f
DTSTAMP:20260419T123754Z
DESCRIPTION:
DTSTART;TZID=America/Chicago:20260308T104500
DTEND;TZID=America/Chicago:20260308T114500
LOCATION:
SUMMARY:Christian Education
END:VEVENT
END:VCALENDAR
