BEGIN:VCALENDAR
VERSION:2.0
PRODID:-//gcpc.org//NONSGML kigkonsult.se iCalcreator 2.30.10//
CALSCALE:GREGORIAN
METHOD:PUBLISH
UID:16a41190-1be2-4c42-b414-49fd9742c3b7
X-WR-CALDESC:
X-WR-RELCALID:f6732d1d3822fb5c0e2196274fddf5f3
X-WR-TIMEZONE:America/Chicago
BEGIN:VTIMEZONE
TZID:America/Chicago
BEGIN:STANDARD
TZNAME:CST
DTSTART:20251102T020000
TZOFFSETFROM:-0500
TZOFFSETTO:-0600
RDATE:20261101T020000
END:STANDARD
BEGIN:DAYLIGHT
TZNAME:CDT
DTSTART:20260308T020000
TZOFFSETFROM:-0600
TZOFFSETTO:-0500
RDATE:20270314T020000
END:DAYLIGHT
END:VTIMEZONE
BEGIN:VEVENT
UID:20f7c632-4456-445e-aed5-ee5bd8c2d456
DTSTAMP:20260419T181843Z
DESCRIPTION:
DTSTART;TZID=America/Chicago:20260326T183000
DTEND;TZID=America/Chicago:20260326T200000
LOCATION:ONLINE
SUMMARY:Connections & Care Meeting
END:VEVENT
END:VCALENDAR
