BEGIN:VCALENDAR
VERSION:2.0
PRODID:-//gcpc.org//NONSGML kigkonsult.se iCalcreator 2.30.10//
CALSCALE:GREGORIAN
METHOD:PUBLISH
UID:d9ca359f-95f5-4bf3-aa75-22d7babe69c0
X-WR-CALDESC:
X-WR-RELCALID:e045227b720664589812652641ab5cac
X-WR-TIMEZONE:America/Chicago
BEGIN:VTIMEZONE
TZID:America/Chicago
BEGIN:STANDARD
TZNAME:CST
DTSTART:20251102T020000
TZOFFSETFROM:-0500
TZOFFSETTO:-0600
RDATE:20261101T020000
END:STANDARD
BEGIN:DAYLIGHT
TZNAME:CDT
DTSTART:20260308T020000
TZOFFSETFROM:-0600
TZOFFSETTO:-0500
RDATE:20270314T020000
END:DAYLIGHT
END:VTIMEZONE
BEGIN:VEVENT
UID:4354e452-03fe-4e3b-a8fd-aba3edfbc848
DTSTAMP:20260423T143058Z
DESCRIPTION:
DTSTART;TZID=America/Chicago:20260329T050000
DTEND;TZID=America/Chicago:20260329T050001
LOCATION:
SUMMARY:PALM SUNDAY
END:VEVENT
END:VCALENDAR
